BEGIN:VCALENDAR
VERSION:2.0
PRODID:-//ChamberMaster//Event Calendar 2.0//EN
METHOD:PUBLISH
X-PUBLISHED-TTL:P1H
REFRESH-INTERVAL:P1H
CALSCALE:GREGORIAN
BEGIN:VTIMEZONE
TZID:America/New_York
BEGIN:DAYLIGHT
RRULE:FREQ=YEARLY;BYMONTH=3;BYDAY=2SU
DTSTART:20070101T000000
TZOFFSETFROM:-0500
TZOFFSETTO:-0400
TZNAME:Eastern Daylight Time
END:DAYLIGHT
BEGIN:STANDARD
RRULE:FREQ=YEARLY;BYMONTH=11;BYDAY=1SU
DTSTART:20070101T000000
TZOFFSETFROM:-0400
TZOFFSETTO:-0500
TZNAME:Eastern Standard Time
END:STANDARD
END:VTIMEZONE
BEGIN:VEVENT
DTSTART;TZID=America/New_York:20260514T130000
DTEND;TZID=America/New_York:20260514T143000
X-MICROSOFT-CDO-ALLDAYEVENT:FALSE
SUMMARY:InFocus - Contributions of Sex-specific Signaling Across Vascular Diseases
DESCRIPTION:Presentations will include: "Phenylpropionate\, a gut-microbial precursor of hippuric acid\, has sex-dependent effects on atherosclerosis progression in ApoE-/- mice" \nKelley Carr\, Cleveland Clinic Research" Type 1 diabetes impairs endothelial function and alters systemic inflammation via sex hormone-dependent mechanisms in mice" \nAdam Salon\, Augusta University" Identification of sex-specific mechanisms of endothelial to mesenchymal transition (EndoMT) contributing to atherosclerotic plaque stability using a multi-omics approach" \nKelsey Watts\, UCLAThis InFocus Session is sponsored by the NAVBO Online Program Committee and organized by Patricia Brazee\, MassGeneral Brigham.
X-ALT-DESC;FMTTYPE=text/html:<!DOCTYPE html><html><head><title></title></head><body aria-disabled="false"><p>Presentations will include:&nbsp\;</p><p>&ldquo\;Phenylpropionate\, a gut-microbial precursor of hippuric acid\, has sex-dependent effects on atherosclerosis progression in ApoE-/- mice&quot\; <br>Kelley Carr\, Cleveland Clinic Research</p><p>&quot\; Type 1 diabetes impairs endothelial function and alters systemic inflammation via sex hormone-dependent mechanisms in mice&quot\; <br>Adam Salon\, Augusta University</p><p>&quot\; Identification of sex-specific mechanisms of endothelial to mesenchymal transition (EndoMT) contributing to atherosclerotic plaque stability using a multi-omics approach&quot\; <br>Kelsey Watts\, UCLA</p><p><em>This InFocus Session is sponsored by the NAVBO Online Program Committee and organize</em><em>d by Patricia Brazee\, MassGeneral Brigham.</em></p></body></html>
LOCATION:
UID:e.2142.1440115
SEQUENCE:3
DTSTAMP:20260421T082951Z
URL:https://members.navbo.org/calendar-of-events/Details/infocus-contributions-of-sex-specific-signaling-across-vascular-diseases-1704811?sourceTypeId=Hub
END:VEVENT
END:VCALENDAR
