BEGIN:VCALENDAR
VERSION:2.0
PRODID:-//ChamberMaster//Event Calendar 2.0//EN
METHOD:PUBLISH
X-PUBLISHED-TTL:P1H
REFRESH-INTERVAL:P1H
CALSCALE:GREGORIAN
BEGIN:VTIMEZONE
TZID:America/New_York
BEGIN:DAYLIGHT
RRULE:FREQ=YEARLY;BYMONTH=3;BYDAY=2SU
DTSTART:20070101T000000
TZOFFSETFROM:-0500
TZOFFSETTO:-0400
TZNAME:Eastern Daylight Time
END:DAYLIGHT
BEGIN:STANDARD
RRULE:FREQ=YEARLY;BYMONTH=11;BYDAY=1SU
DTSTART:20070101T000000
TZOFFSETFROM:-0400
TZOFFSETTO:-0500
TZNAME:Eastern Standard Time
END:STANDARD
END:VTIMEZONE
BEGIN:VEVENT
DTSTART;TZID=America/New_York:20260521T130000
DTEND;TZID=America/New_York:20260521T140000
X-MICROSOFT-CDO-ALLDAYEVENT:FALSE
SUMMARY:Journal Club -Endothelial PDLIM5 promotes tip cell filopodia formation and tumor angiogenesis by regulating ACTN1/ACTN4-dependent actin bundling
DESCRIPTION:Kapil Thapa\, a Ph.D. Student in Cell and Molecular Biology at Tulane University in Louisiana\, will present the paper: " Endothelial PDLIM5 promotes tip cell filopodia formation and tumor angiogenesis by regulating ACTN1/ACTN4-dependent actin bundling\," originally published in Nature Communication.  Here is a link to the paper being discussed: https://www.nature.com/articles/s41467-026-68765-x  Abstract:  Filopodia formation by tip-endothelial cell is crucial for sprouting angiogenesis and tumor growth. But\, how the cytoskeletal organization takes place during filopodia formation is largely unknown. Wang group in this paper found that PDZ and LIM domain 5 (PDLIM5)\, which is a cytoskeletal protein\, is required for filopodia formation\, sprouting angiogenesis\, and tumor growth. Most interestingly\, Endothelial-specific deletion of Pdlim5 resulted in normalization of tumor vasculature thus improving immunotherapy and chemotherapy response. The authors suggest that these findings provide invaluable insight on developing anti-angiogenic cancer therapy.
X-ALT-DESC;FMTTYPE=text/html:<!DOCTYPE html><html><head><title></title></head><body aria-disabled="false"><div style='box-sizing: border-box\; scrollbar-color: rgb(193\, 193\, 193) rgba(0\, 0\, 0\, 0)\; scrollbar-width: thin\; margin: 0px\; color: rgb(43\, 55\, 62)\; font-family: -apple-system\, system-ui\, BlinkMacSystemFont\, Aptos\, Roboto\, "Segoe UI"\, Helvetica\, Arial\, sans-serif\, "Apple Color Emoji"\, "Segoe UI Emoji"\, "Segoe UI Symbol"\; font-size: 19.8px\; font-style: normal\; font-variant-ligatures: normal\; font-variant-caps: normal\; font-weight: 400\; letter-spacing: normal\; orphans: 2\; text-align: start\; text-indent: 0px\; text-transform: none\; widows: 2\; word-spacing: 0px\; -webkit-text-stroke-width: 0px\; white-space: normal\; background-color: rgb(255\, 255\, 255)\; text-decoration-thickness: initial\; text-decoration-style: initial\; text-decoration-color: initial\;'><strong fr-original-style="box-sizing: border-box\; scrollbar-color: rgb(193\, 193\, 193) rgba(0\, 0\, 0\, 0)\; scrollbar-width: thin\; font-weight: bold\;" style="box-sizing: border-box\; scrollbar-color: rgb(193\, 193\, 193) rgba(0\, 0\, 0\, 0)\; scrollbar-width: thin\; font-weight: bold\;"><span style="font-family: Tahoma\,Geneva\,sans-serif\;">&nbsp\;</span></strong><span style="font-family: Tahoma\,Geneva\,sans-serif\;">Kapil Thapa\, a Ph.D. Student in Cell and Molecular Biology at Tulane University in Louisiana\, will present the paper: &quot\;<strong fr-original-style="box-sizing: border-box\; scrollbar-color: rgb(193\, 193\, 193) rgba(0\, 0\, 0\, 0)\; scrollbar-width: thin\; font-weight: bold\;" style="box-sizing: border-box\; scrollbar-color: rgb(193\, 193\, 193) rgba(0\, 0\, 0\, 0)\; scrollbar-width: thin\; font-weight: bold\;">&nbsp\;</strong>Endothelial PDLIM5 promotes tip cell filopodia formation and tumor angiogenesis by regulating ACTN1/ACTN4-dependent actin bundling\,&quot\; originally published in <em>Nature Communication.&nbsp\;</em> Here is a link to the paper being discussed:<em>&nbsp\;</em></span></div><div style='box-sizing: border-box\; scrollbar-color: rgb(193\, 193\, 193) rgba(0\, 0\, 0\, 0)\; scrollbar-width: thin\; margin: 0px\; color: rgb(43\, 55\, 62)\; font-family: -apple-system\, system-ui\, BlinkMacSystemFont\, Aptos\, Roboto\, "Segoe UI"\, Helvetica\, Arial\, sans-serif\, "Apple Color Emoji"\, "Segoe UI Emoji"\, "Segoe UI Symbol"\; font-size: 19.8px\; font-style: normal\; font-variant-ligatures: normal\; font-variant-caps: normal\; font-weight: 400\; letter-spacing: normal\; orphans: 2\; text-align: start\; text-indent: 0px\; text-transform: none\; widows: 2\; word-spacing: 0px\; -webkit-text-stroke-width: 0px\; white-space: normal\; background-color: rgb(255\, 255\, 255)\; text-decoration-thickness: initial\; text-decoration-style: initial\; text-decoration-color: initial\;'><span style="font-family: Tahoma\,Geneva\,sans-serif\;"><a fr-original-style="box-sizing: border-box\; scrollbar-color: rgb(193\, 193\, 193) rgba(0\, 0\, 0\, 0)\; scrollbar-width: thin\; background: transparent\; color: rgb(35\, 119\, 210)\; text-decoration: underline\;" href="https://www.nature.com/articles/s41467-026-68765-x" rel="noreferrer" style="box-sizing: border-box\; scrollbar-color: rgb(193\, 193\, 193) rgba(0\, 0\, 0\, 0)\; scrollbar-width: thin\; background: transparent\; color: rgb(35\, 119\, 210)\; text-decoration: underline\; user-select: auto\;" target="_blank">https://www.nature.com/articles/s41467-026-68765-x</a> &nbsp\;</span></div><div style='box-sizing: border-box\; scrollbar-color: rgb(193\, 193\, 193) rgba(0\, 0\, 0\, 0)\; scrollbar-width: thin\; margin: 0px\; color: rgb(43\, 55\, 62)\; font-family: -apple-system\, system-ui\, BlinkMacSystemFont\, Aptos\, Roboto\, "Segoe UI"\, Helvetica\, Arial\, sans-serif\, "Apple Color Emoji"\, "Segoe UI Emoji"\, "Segoe UI Symbol"\; font-size: 19.8px\; font-style: normal\; font-variant-ligatures: normal\; font-variant-caps: normal\; font-weight: 400\; letter-spacing: normal\; orphans: 2\; text-align: start\; text-indent: 0px\; text-transform: none\; widows: 2\; word-spacing: 0px\; -webkit-text-stroke-width: 0px\; white-space: normal\; background-color: rgb(255\, 255\, 255)\; text-decoration-thickness: initial\; text-decoration-style: initial\; text-decoration-color: initial\;'><span style="font-family: Tahoma\,Geneva\,sans-serif\;">Abstract:&nbsp\;</span><span style="font-family: Tahoma\, Geneva\, sans-serif\;">&nbsp\;Filopodia formation by tip-endothelial cell is crucial for sprouting angiogenesis and tumor growth. But\, how the cytoskeletal organization takes place during filopodia formation is largely unknown. Wang group in this paper found that PDZ and LIM domain 5 (PDLIM5)\, which is a cytoskeletal protein\, is required for filopodia formation\, sprouting angiogenesis\, and tumor growth. Most interestingly\, Endothelial-specific deletion of Pdlim5 resulted in normalization of tumor vasculature thus improving immunotherapy and chemotherapy response. The authors suggest that these findings provide invaluable insight on developing anti-angiogenic cancer therapy.</span></div><p><br></p></body></html>
LOCATION:
UID:e.2142.1443536
SEQUENCE:3
DTSTAMP:20260423T082539Z
URL:https://members.navbo.org/calendar-of-events/Details/journal-club-endothelial-pdlim5-promotes-tip-cell-filopodia-formation-and-tumor-angiogenesis-by-regulating-actn1-actn4-dependent-actin-bundling-1709774?sourceTypeId=Hub
END:VEVENT
END:VCALENDAR
